BEGIN:VCALENDAR
VERSION:2.0
PRODID:-// - ECPv6.15.17//NONSGML v1.0//EN
CALSCALE:GREGORIAN
METHOD:PUBLISH
X-ORIGINAL-URL:https://fondazionesorrento.com
X-WR-CALDESC:Eventi per 
REFRESH-INTERVAL;VALUE=DURATION:PT1H
X-Robots-Tag:noindex
X-PUBLISHED-TTL:PT1H
BEGIN:VTIMEZONE
TZID:UTC
BEGIN:STANDARD
TZOFFSETFROM:+0000
TZOFFSETTO:+0000
TZNAME:UTC
DTSTART:20250101T000000
END:STANDARD
END:VTIMEZONE
BEGIN:VEVENT
DTSTART;TZID=UTC:20260515T080000
DTEND;TZID=UTC:20260616T170000
DTSTAMP:20260423T222303
CREATED:20260330T155023Z
LAST-MODIFIED:20260402T103605Z
UID:10002294-1778832000-1781629200@fondazionesorrento.com
SUMMARY:Turning to the Light: la mostra internazionale a Villa Fiorentino a Sorrento
DESCRIPTION:Dal 15 maggio al 14 giugno 2026\, gli spazi di Villa Fiorentino ospiteranno Turning to the Light\, una mostra collettiva internazionale inserita nel format Sorrento Contemporary Art. \nL’esposizione riunisce artisti provenienti da diversi contesti culturali\, dando vita a un percorso artistico incentrato sul tema della luce come elemento espressivo\, simbolico e narrativo\, capace di guidare lo spettatore in un’esperienza immersiva tra opere\, installazioni e momenti performativi. \nUna mostra internazionale tra arte contemporanea e sperimentazione\n“Turning to the Light” nasce da una ricerca condivisa tra artisti internazionali\, accomunati dall’utilizzo della luce come elemento fondante del proprio linguaggio artistico. \nIl titolo stesso richiama un gesto dinamico: voltarsi verso la luce\, un’azione che implica movimento\, ricerca e trasformazione. In questo contesto\, la luce diventa non solo elemento visivo\, ma anche simbolo di orientamento\, identità e connessione. \nIl progetto si sviluppa all’interno di una dimensione globale\, in cui l’arte risponde a una condizione contemporanea spesso caratterizzata da incertezza e cambiamento\, proponendo nuove possibili direzioni. \nIl dialogo con Paul Klee\nUn riferimento importante della mostra è il lavoro di Paul Klee\, in particolare l’opera Hauptweg und Nebenwege. \nGli artisti coinvolti si ispirano al ritmo visivo e concettuale dell’opera\, suggerendo un’idea di percorso fatto di strade principali e secondarie\, metafora delle scelte e delle possibilità che l’arte è in grado di indicare. \nQuesto dialogo con la storia dell’arte arricchisce il progetto\, creando un ponte tra passato e contemporaneità. \nLa luce come linguaggio artistico\nElemento centrale della mostra è la luce\, intesa come vero e proprio medium artistico autonomo. \nNel corso del Novecento\, la luce ha assunto un ruolo sempre più rilevante nell’arte contemporanea\, diventando strumento di sperimentazione e ricerca. In “Turning to the Light”\, essa si declina in molteplici forme: \n\ninstallazioni luminose\nopere site-specific\ninterventi performativi\ninterazioni dirette con il pubblico\n\nOgni artista interpreta la luce in modo personale\, contribuendo a creare un percorso espositivo dinamico e in continua trasformazione. \nUn’esperienza immersiva a Villa Fiorentino\nLa mostra trova spazio nelle sale di Villa Fiorentino\, una delle location culturali più importanti di Sorrento. \nSituata nel cuore del centro storico\, a pochi passi da Piazza Tasso\, la villa diventa parte integrante del progetto espositivo. \nLe opere sono pensate per dialogare con gli ambienti della struttura\, trasformandone gli spazi attraverso interventi site-specific e creando un rapporto diretto tra arte\, architettura e visitatore. \nInformazioni sulla mostra\n\nTitolo: Turning to the Light\nDate: 15 maggio – 14 giugno 2026\nLuogo: Villa Fiorentino\nCittà: Sorrento\n\nFAQ: Turning to the Light Sorrento 2026\nQuando si svolge la mostra Turning to the Light a Sorrento?\nDal 15 maggio al 14 giugno 2026. \nDove si tiene la mostra?\nLa mostra si svolge presso Villa Fiorentino\, nel centro di Sorrento. \nChe tipo di mostra è Turning to the Light?\nÈ una mostra collettiva internazionale di arte contemporanea incentrata sul tema della luce. \nQual è il tema principale dell’esposizione?\nLa luce come elemento artistico\, simbolico e narrativo\, interpretata da diversi artisti contemporanei. \nLa mostra è adatta ai turisti?\nSì\, è un evento culturale aperto a tutti\, ideale per chi visita Sorrento nel periodo primaverile.
URL:https://fondazionesorrento.com/event/turning-to-the-light-mostra-internazionale/
CATEGORIES:Eventi,Mostre
ATTACH;FMTTYPE=image/jpeg:https://fondazionesorrento.com/wp-content/uploads/2026/03/SyArt_Sorrento_Contemporary_Art_FB-scaled.jpg
END:VEVENT
END:VCALENDAR