BEGIN:VCALENDAR
VERSION:2.0
PRODID:-// - ECPv6.15.17//NONSGML v1.0//EN
CALSCALE:GREGORIAN
METHOD:PUBLISH
X-ORIGINAL-URL:https://fondazionesorrento.com
X-WR-CALDESC:Eventi per 
REFRESH-INTERVAL;VALUE=DURATION:PT1H
X-Robots-Tag:noindex
X-PUBLISHED-TTL:PT1H
BEGIN:VTIMEZONE
TZID:UTC
BEGIN:STANDARD
TZOFFSETFROM:+0000
TZOFFSETTO:+0000
TZNAME:UTC
DTSTART:20210101T000000
END:STANDARD
END:VTIMEZONE
BEGIN:VEVENT
DTSTART;TZID=UTC:20220101T080000
DTEND;TZID=UTC:20281231T170000
DTSTAMP:20260423T030347
CREATED:20250701T153534Z
LAST-MODIFIED:20250710T115227Z
UID:10000002-1641024000-1861894800@fondazionesorrento.com
SUMMARY:La Collezione di Carillon di Enrico Salierno
DESCRIPTION:Il secondo piano di Villa Fiorentino ospita la mostra permanente di carillon donati alla città di Sorrento dall’ebanista Enrico Salierno. \n\n\n\nQuesti\, originario del centro storico di Sorrento\, trovò fortuna in America con l’arte dell’intarsio sorrentino. \n\n\n\nFra gli anni Sessanta e Settanta del Novecento aprì a Los Angeles un workshop nel quale si dedicava all’import ed export dei manufatti tipici di Sorrento (cofanetti\, quadri\, tavoli da gioco etc.) sui quali venivano applicati vari lavori intarsiati\, espressione artistica e manuale della tradizione artigianale locale. Nel processo di lavorazione\, inoltre\, era previsto il montaggio dei carillon. \n\n\n\nDi anno in anno l’ebanista\, in compagnia di sua moglie\, tornava qui a Sorrento per ricongiungersi ai suoi familiari ed amici ma soprattutto per predisporre gli ordini da far arrivare al suo laboratorio negli USA. \n\n\n\nGiunto al termine del suo ciclo professionale\, Enrico Salierno\, come segno di gratitudine alla terra natia e i suoi artigiani\, decise di donare alla città di Sorrento una parte del suo patrimonio che meglio rappresentava il “suo” mondo di origine: una collezione rarissima e pregiata di carillon\, raccolta nei suoi anni di attività\, montati su mobilia pregiata di provenienza sia sorrentina che internazionale. \n\n\n\nSuccessivamente alla morte di Enrico\, grazie alla preziosa collaborazione di sua moglie e dell’amico fraterno Mario Cimmino\, nonchè della Fondazione Sorrento e dell’Unione Artigiani Intarsio Sorrentino\, fu possibile concludere tutte le complesse procedure burocratiche e di trasporto dei manufatti da Los Angeles a Sorrento. \n\n\n\nNecessitava solo una collocazione stabile dove poter custodire esporre tutte queste opere: quale posto migliore se non Villa Fiorentino? \n\n\n\nLa Fondazione Sorrento\, dunque\, è orgogliosa di dedicare questo intero spazio alla Collezione Salierno al secondo piano della villa. \n\n\n\nLa sala è intitolata “Enrico Salierno\, artigiano di Sorrento”. \n\n\n\n\n\nParte della collezione Salierno\nAlcuni dei carillon donati da Enrico Salierno\nParticolare del cilindro un carillon\nParticolare di un carillon montato su di un mobiletto\nLa Tradizione artigianale sorrentina incontra l’arte dei carillon\n\n\n\n\n\nL’accesso alla mostra è compresa nel costo del biglietto di Villa Fiorentino.
URL:https://fondazionesorrento.com/event/la-collezione-di-carillon-di-enrico-salierno/
CATEGORIES:Mostre,Mostre Permanenti
ATTACH;FMTTYPE=image/webp:https://fondazionesorrento.com/wp-content/uploads/2025/02/Collezione-Carillon-Salierno.webp
END:VEVENT
BEGIN:VEVENT
DTSTART;TZID=UTC:20220101T080000
DTEND;TZID=UTC:20281231T170000
DTSTAMP:20260423T030347
CREATED:20250702T160510Z
LAST-MODIFIED:20250710T115219Z
UID:10002241-1641024000-1861894800@fondazionesorrento.com
SUMMARY:La Mostra Permanente dell'Intarsio Sorrentino
DESCRIPTION:All’interno delle eleganti sale di Villa Fiorentino\, dimora storica nel cuore di Sorrento e sede della Fondazione Sorrento\, è possibile visitare una mostra permanente interamente dedicata all’intarsio sorrentino\, una delle più raffinate eccellenze dell’artigianato italiano. \nLa mostra nasce con l’intento di valorizzare e tramandare una tradizione artistica plurisecolare\, che ha reso celebre Sorrento nel mondo per la maestria dei suoi artigiani del legno. \nL’iniziativa è promossa dalla Fondazione Sorrento\, fortemente sostenuta dal presidente Gianluigi Aponte e dall’amministratore delegato Mario Gargiulo\, in collaborazione con l’Associazione Artigiani Intarsio Sorrentino\, che ha curato l’allestimento. \nAttraverso un percorso espositivo suggestivo\, i visitatori possono scoprire le fasi di lavorazione dell’intarsio\, tecnica che prevede l’utilizzo di sottili sfoglie di legno di diverse essenze e tonalità\, combinate con materiali preziosi come madreperla\, avorio e metalli. \nIl risultato è un vero e proprio mosaico ligneo\, realizzato con estrema precisione\, capace di raccontare storie\, paesaggi e motivi decorativi di grande fascino. \nSorrento ha conosciuto il massimo splendore dell’intarsio tra Ottocento e primo Novecento\, quando\, con l’avvento del Grand Tour\, artisti\, letterati e intellettuali di tutta Europa visitarono la Penisola sorrentina\, contribuendo allo sviluppo stilistico e tecnico di questa arte. \nL’istituzione della Scuola per l’Industria dell’Intarsio nel 1886 fu determinante per l’affermazione della produzione locale a livello internazionale. \nLa mostra permanente dell’Intarsio Sorrentino è arricchita da una selezione di pezzi unici: mobili\, cofanetti\, pannelli e oggetti decorativi che testimoniano la qualità e la bellezza di una tradizione che ancora oggi\, nonostante il ridotto numero di artigiani\, continua a vivere grazie all’impegno di maestri intarsiatori che puntano sull’eccellenza. \n\n\nQuando visitare la Mostra Permanente dell’Intarsio Sorrentino:\n\nLun-Ven: 10:00 – 13:00 / 16:00 – 19:00 \nSabato e Domenica: 10:00 – 13:00 / 16:00 – 20:00 \nIngresso gratuito \nPer info: +39 081 878 2284 – info@fondazionesorrento.com
URL:https://fondazionesorrento.com/event/mostra-permanente-intarsio-sorrentino-villa-fiorentino/
CATEGORIES:Mostre,Mostre Permanenti
ATTACH;FMTTYPE=image/png:https://fondazionesorrento.com/wp-content/uploads/2025/06/Mostra-permanente-Intarsio-Sorrentino-Villa-Fiorentino.png
END:VEVENT
BEGIN:VEVENT
DTSTART;TZID=UTC:20251201T100000
DTEND;TZID=UTC:20260118T200000
DTSTAMP:20260423T030347
CREATED:20251105T104558Z
LAST-MODIFIED:20251203T084822Z
UID:10002270-1764583200-1768766400@fondazionesorrento.com
SUMMARY:Mostra Natalizia “Giuseppe Ercolano e i Maestri del Presepe” a Sorrento
DESCRIPTION:Fondazione Sorrento presenta\, negli spazi di Villa Fiorentino\, la mostra “Giuseppe Ercolano e i Maestri del Presepe”\, in programma dal 1 dicembre 2025 al 18 gennaio 2026. Un progetto che unisce valori spirituali\, tradizione artigianale e ricerca artistica contemporanea\, grazie alla curatela dell’artista sorrentino Giuseppe Ercolano\, che porta nella sua città un percorso già accolto con grande successo sul Lago di Como con un presepe a tema Promessi Sposi. \nA questo orizzonte narrativo si aggiunge una importante sezione fotografica\, un progetto visivo originale e sorprendente che ha come protagonista il personaggio di Pinocchio. Le immagini\, realizzate e curate con grande sensibilità e potenza evocativa da Umberto Astarita\, introducono l’osservatore ad un presepe dedicato proprio al burattino nato dalla fantasia di Carlo Collodi\, ispirato anche al testo del cardinale Giacomo Biffi “Contro Mastro Ciliegia”\, in cui la storia di Pinocchio viene riletta in chiave morale e spirituale. \nMaestri del Presepe: un percorso in tre sezioni\nL’esposizione si sviluppa all’interno delle sale principali di Villa Fiorentino e comprende oltre 250 figure presepiali e installazioni di grande valore artistico: \nPiano Terra – Il Presepe Napoletano del XVIII secolo\nUna sezione interamente dedicata alla tradizione del presepe napoletano\, tra scenografie barocche\, personaggi dettagliati e simboli della cultura popolare partenopea. \nPrimo Piano – Tradizioni a confronto: Presepi d’Italia\nPresepi provenienti da diverse regioni italiane e interpretazioni artistiche ispirate alla letteratura nazionale\, tra cui I Promessi Sposi e Pinocchio\, per raccontare la molteplicità del presepe nella cultura italiana. \nPiano Seminterrato – L’incanto dei Presepi di Carta\nUna raccolta di cromolitografie\, litografie e presepi di carta dell’Ottocento e Novecento\, arricchita da un presepe dipinto a grandezza naturale e da un video didattico. \nDate e orari della mostra a Sorrento\n\n\nLuogo: Villa Fiorentino – Sorrento \n\n\nDate: 1 dicembre 2025 – 18 gennaio 2026 \n\n\nOrari di apertura: \n\n\nLunedì–Venerdì: 10:00–13:00 / 16:00–19:00 \n\n\nSabato\, domenica e festivi: fino alle 20:00 \n\n\n24 e 31 dicembre: solo apertura mattutina \n\n\n25 dicembre 2025 e 1° gennaio 2026: aperto dalle 17:00 \n\n\n\n\nFAQ – Domande frequenti\nQuando apre la mostra?Dal 1 dicembre 2025 al 18 gennaio 2026. \nDove si svolge?A Villa Fiorentino\, sede della Fondazione Sorrento. \nQuanto costa l’ingresso alla mostra?La mostra avrà ingresso gratuito. \nÈ adatta alle famiglie e ai bambini?Sì\, la mostra è pensata per visitatori di tutte le età.
URL:https://fondazionesorrento.com/event/maestri-del-presepe-a-sorrento/
CATEGORIES:Mostre
ATTACH;FMTTYPE=image/jpeg:https://fondazionesorrento.com/wp-content/uploads/2025/11/Mostra-dei-Presepi-a-Sorrento-scaled.jpeg
END:VEVENT
BEGIN:VEVENT
DTSTART;TZID=UTC:20251205T080000
DTEND;TZID=UTC:20251230T170000
DTSTAMP:20260423T030347
CREATED:20251118T110828Z
LAST-MODIFIED:20251118T110912Z
UID:10002272-1764921600-1767114000@fondazionesorrento.com
SUMMARY:Surriento Gentile: rassegna di Natale 2025 a Sorrento
DESCRIPTION:Sorrento si prepara a vivere un Natale ispirato ai valori che da sempre la contraddistinguono: accoglienza\, cultura\, bellezza e gentilezza con “Surriento Gentile”; la rassegna natalizia che dal 5 al 30 dicembre 2025 trasformerà la città in un grande palcoscenico diffuso\, animato da spettacoli\, musica\, teatro\, mostre\, incontri e iniziative speciali dedicate sia alla tradizione che alla contemporaneità. \nLa manifestazione\, diretta artisticamente da Marisa Laurito\, è promossa da Fondazione Sorrento\, in sinergia con Federalberghi Penisola Sorrentina\, Confcommercio Sorrento\, Associazione Agenti di Viaggio Penisola Sorrentina e Associazione Ristoratori Sorrentini. Un progetto condiviso che valorizza l’identità culturale della città e rafforza la collaborazione tra pubblico e privato per un’offerta turistica di alto livello. \nUna celebrazione della gentilezza e della cultura\n“Surriento Gentile” prende il nome dal celebre verso della canzone “Serenata a Surriento”\, e si pone l’obiettivo di proporre un percorso artistico capace di raccontare la città attraverso uno dei suoi valori più profondi: la gentilezza. Nel corso del mese\, Sorrento ospiterà incontri dedicati al tema\, spettacoli teatrali e azioni performative nelle strade del centro\, con l’intento di riportare al centro il valore delle relazioni umane. \nCome sottolineato dalla direttrice artistica Marisa Laurito\, la rassegna vuole invitare cittadini e visitatori a riscoprire l’importanza di piccoli gesti che possono generare armonia\, bellezza e senso di comunità. \nGrandi nomi della scena artistica italiana e internazionale\nIl programma 2025 conferma Sorrento come punto di riferimento culturale nel periodo invernale. Tra gli ospiti: \n\nNoa\, con Gil Dor e i Solis String Quartet\nAlexander Romanovsky\, pianista di fama mondiale\nThe Voices of Victory\, prestigioso coro gospel diretto da Nicole Ingram Taylor\nTullio De Piscopo\, con un concerto dedicato ai colori della musica\nRaiz\, protagonista del grande concerto di chiusura\nLorenzo Hengeller\, tra jazz\, canzone classica e teatro\nMarco Zurzolo e la Street Jazz Band\nGiovanni Block\nLe attrici Fiorenza Calogero\, Antonella Stefanucci\, Rosaria De Cicco\, Annamaria Colasanto\, Francesca Colapietro\nI Posteggiatori del Maestro Masiello e la formazione di Aurora Giglio\n\nUn’offerta ricca e articolata\, capace di abbracciare generi diversi: musica classica\, jazz\, tradizione napoletana\, spettacoli itineranti\, incontri culturali e proiezioni di animazione. \nMostre\, percorsi itineranti e iniziative per famiglie\nIl calendario prevede anche numerosi momenti dedicati all’arte e alla creatività\, tra cui: \n\nMostra “Dance Notes” di Alessandro Vasapolli\nMostra “Oltre il Gesto” di Morris Spagnol\nPercorso “C’era una volta”\, un viaggio narrativo tra chiese e palazzi storici\nProiezioni animate\, come “Totò Sapore” e “Mary e lo spirito di mezzanotte”\nPerformance “Sognando la neve” con Marco Palmieri e i suonatori di zampogna\n\nParticolarmente significativa\, inoltre\, la sezione dedicata alla tradizione presepiale: \n\nMostra “Giuseppe Ercolano e i maestri del presepe – 25 anni di arte e tradizione”\, ospitata a Villa Fiorentino dal 1° dicembre al 18 gennaio\n“Araprit’ ’e purtune… ’ncè stà ’o Presepio”\, percorso nel centro storico con scene viventi del presepe settecentesco\n\nDue appuntamenti che celebrano la cultura del presepe e la sua eredità nella Penisola Sorrentina. \nUn programma che nasce dalla collaborazione\nIl progetto “Surriento Gentile” rappresenta la sintesi di una forte sinergia territoriale. Come sottolineato dai presidenti delle associazioni promotrici\, la collaborazione tra realtà pubbliche e private consente alla città di offrire un programma natalizio di qualità\, capace di valorizzare tradizioni\, ospitalità e patrimonio culturale. \nFondazione Sorrento conferma\, ancora una volta\, il suo ruolo centrale nella promozione culturale della città\, sostenendo eventi e iniziative che contribuiscono allo sviluppo turistico e alla diffusione della cultura come strumento di comunità.
URL:https://fondazionesorrento.com/event/surriento-gentile-rassegna-di-natale-2025-a-sorrento/
CATEGORIES:Eventi,Mostre
ATTACH;FMTTYPE=image/jpeg:https://fondazionesorrento.com/wp-content/uploads/2025/11/Surriento-Gentile-Albero.jpeg
END:VEVENT
BEGIN:VEVENT
DTSTART;TZID=UTC:20251228T080000
DTEND;TZID=UTC:20251230T170000
DTSTAMP:20260423T030347
CREATED:20251125T101834Z
LAST-MODIFIED:20251125T101834Z
UID:10002276-1766908800-1767114000@fondazionesorrento.com
SUMMARY:Araprite ’e Purtune: Presepe vivente 2025 – L'itinerario nel centro storico di Sorrento
DESCRIPTION:Con “Araprite ’e purtune\, ce sta O’ presepio” il presepe vivente torna a Sorrento\, che propone un nuovo progetto culturale che valorizza la tradizione napoletana del Settecento attraverso un percorso diffuso negli antichi portoni del centro storico\, dal 28 al 30 Dicembre. \nAraprite ’e Purtune: il presepe vivente a Sorrento\nL’edizione 2025 rappresenta un’evoluzione significativa: il presepe esce dalla sua sede abituale\, i giardini del Vescovato\, per dialogare direttamente con la città\, restituendo al pubblico la potenza narrativa e simbolica di una delle espressioni artistiche più rappresentative della cultura campana. Il progetto invita cittadini e visitatori a riscoprire la dimensione artistica e spirituale della Natività attraverso un itinerario che unisce storia\, patrimonio architettonico e tradizione\, contribuendo alla valorizzazione del territorio. \nPercorso e informazioni\nIl percorso ufficiale sarà presto reso noto\, con tutti i portoni che parteciperanno a quest’iniziativa\, partendo da Piazza Tasso\, passando per i vicoletti storici di Sorrento. \nIl progetto culturale “Araprite ‘e Purtune” sarà inaugurato il 28 Dicembre\, fino al 30 Dicembre\, dalle ore 17:30 fino alle 20:30.
URL:https://fondazionesorrento.com/event/araprite-e-purtune-il-presepe-vivente-2025/
CATEGORIES:Eventi,Mostre
ATTACH;FMTTYPE=image/jpeg:https://fondazionesorrento.com/wp-content/uploads/2025/11/Presepe-Vivente-4.jpg
END:VEVENT
END:VCALENDAR