BEGIN:VCALENDAR
VERSION:2.0
PRODID:-// - ECPv6.15.17//NONSGML v1.0//EN
CALSCALE:GREGORIAN
METHOD:PUBLISH
X-ORIGINAL-URL:https://fondazionesorrento.com
X-WR-CALDESC:Eventi per 
REFRESH-INTERVAL;VALUE=DURATION:PT1H
X-Robots-Tag:noindex
X-PUBLISHED-TTL:PT1H
BEGIN:VTIMEZONE
TZID:UTC
BEGIN:STANDARD
TZOFFSETFROM:+0000
TZOFFSETTO:+0000
TZNAME:UTC
DTSTART:20210101T000000
END:STANDARD
END:VTIMEZONE
BEGIN:VEVENT
DTSTART;TZID=UTC:20220101T080000
DTEND;TZID=UTC:20281231T170000
DTSTAMP:20260423T205915
CREATED:20250701T153534Z
LAST-MODIFIED:20250710T115227Z
UID:10000002-1641024000-1861894800@fondazionesorrento.com
SUMMARY:La Collezione di Carillon di Enrico Salierno
DESCRIPTION:Il secondo piano di Villa Fiorentino ospita la mostra permanente di carillon donati alla città di Sorrento dall’ebanista Enrico Salierno. \n\n\n\nQuesti\, originario del centro storico di Sorrento\, trovò fortuna in America con l’arte dell’intarsio sorrentino. \n\n\n\nFra gli anni Sessanta e Settanta del Novecento aprì a Los Angeles un workshop nel quale si dedicava all’import ed export dei manufatti tipici di Sorrento (cofanetti\, quadri\, tavoli da gioco etc.) sui quali venivano applicati vari lavori intarsiati\, espressione artistica e manuale della tradizione artigianale locale. Nel processo di lavorazione\, inoltre\, era previsto il montaggio dei carillon. \n\n\n\nDi anno in anno l’ebanista\, in compagnia di sua moglie\, tornava qui a Sorrento per ricongiungersi ai suoi familiari ed amici ma soprattutto per predisporre gli ordini da far arrivare al suo laboratorio negli USA. \n\n\n\nGiunto al termine del suo ciclo professionale\, Enrico Salierno\, come segno di gratitudine alla terra natia e i suoi artigiani\, decise di donare alla città di Sorrento una parte del suo patrimonio che meglio rappresentava il “suo” mondo di origine: una collezione rarissima e pregiata di carillon\, raccolta nei suoi anni di attività\, montati su mobilia pregiata di provenienza sia sorrentina che internazionale. \n\n\n\nSuccessivamente alla morte di Enrico\, grazie alla preziosa collaborazione di sua moglie e dell’amico fraterno Mario Cimmino\, nonchè della Fondazione Sorrento e dell’Unione Artigiani Intarsio Sorrentino\, fu possibile concludere tutte le complesse procedure burocratiche e di trasporto dei manufatti da Los Angeles a Sorrento. \n\n\n\nNecessitava solo una collocazione stabile dove poter custodire esporre tutte queste opere: quale posto migliore se non Villa Fiorentino? \n\n\n\nLa Fondazione Sorrento\, dunque\, è orgogliosa di dedicare questo intero spazio alla Collezione Salierno al secondo piano della villa. \n\n\n\nLa sala è intitolata “Enrico Salierno\, artigiano di Sorrento”. \n\n\n\n\n\nParte della collezione Salierno\nAlcuni dei carillon donati da Enrico Salierno\nParticolare del cilindro un carillon\nParticolare di un carillon montato su di un mobiletto\nLa Tradizione artigianale sorrentina incontra l’arte dei carillon\n\n\n\n\n\nL’accesso alla mostra è compresa nel costo del biglietto di Villa Fiorentino.
URL:https://fondazionesorrento.com/event/la-collezione-di-carillon-di-enrico-salierno/
CATEGORIES:Mostre,Mostre Permanenti
ATTACH;FMTTYPE=image/webp:https://fondazionesorrento.com/wp-content/uploads/2025/02/Collezione-Carillon-Salierno.webp
END:VEVENT
BEGIN:VEVENT
DTSTART;TZID=UTC:20220101T080000
DTEND;TZID=UTC:20281231T170000
DTSTAMP:20260423T205915
CREATED:20250702T160510Z
LAST-MODIFIED:20250710T115219Z
UID:10002241-1641024000-1861894800@fondazionesorrento.com
SUMMARY:La Mostra Permanente dell'Intarsio Sorrentino
DESCRIPTION:All’interno delle eleganti sale di Villa Fiorentino\, dimora storica nel cuore di Sorrento e sede della Fondazione Sorrento\, è possibile visitare una mostra permanente interamente dedicata all’intarsio sorrentino\, una delle più raffinate eccellenze dell’artigianato italiano. \nLa mostra nasce con l’intento di valorizzare e tramandare una tradizione artistica plurisecolare\, che ha reso celebre Sorrento nel mondo per la maestria dei suoi artigiani del legno. \nL’iniziativa è promossa dalla Fondazione Sorrento\, fortemente sostenuta dal presidente Gianluigi Aponte e dall’amministratore delegato Mario Gargiulo\, in collaborazione con l’Associazione Artigiani Intarsio Sorrentino\, che ha curato l’allestimento. \nAttraverso un percorso espositivo suggestivo\, i visitatori possono scoprire le fasi di lavorazione dell’intarsio\, tecnica che prevede l’utilizzo di sottili sfoglie di legno di diverse essenze e tonalità\, combinate con materiali preziosi come madreperla\, avorio e metalli. \nIl risultato è un vero e proprio mosaico ligneo\, realizzato con estrema precisione\, capace di raccontare storie\, paesaggi e motivi decorativi di grande fascino. \nSorrento ha conosciuto il massimo splendore dell’intarsio tra Ottocento e primo Novecento\, quando\, con l’avvento del Grand Tour\, artisti\, letterati e intellettuali di tutta Europa visitarono la Penisola sorrentina\, contribuendo allo sviluppo stilistico e tecnico di questa arte. \nL’istituzione della Scuola per l’Industria dell’Intarsio nel 1886 fu determinante per l’affermazione della produzione locale a livello internazionale. \nLa mostra permanente dell’Intarsio Sorrentino è arricchita da una selezione di pezzi unici: mobili\, cofanetti\, pannelli e oggetti decorativi che testimoniano la qualità e la bellezza di una tradizione che ancora oggi\, nonostante il ridotto numero di artigiani\, continua a vivere grazie all’impegno di maestri intarsiatori che puntano sull’eccellenza. \n\n\nQuando visitare la Mostra Permanente dell’Intarsio Sorrentino:\n\nLun-Ven: 10:00 – 13:00 / 16:00 – 19:00 \nSabato e Domenica: 10:00 – 13:00 / 16:00 – 20:00 \nIngresso gratuito \nPer info: +39 081 878 2284 – info@fondazionesorrento.com
URL:https://fondazionesorrento.com/event/mostra-permanente-intarsio-sorrentino-villa-fiorentino/
CATEGORIES:Mostre,Mostre Permanenti
ATTACH;FMTTYPE=image/png:https://fondazionesorrento.com/wp-content/uploads/2025/06/Mostra-permanente-Intarsio-Sorrentino-Villa-Fiorentino.png
END:VEVENT
BEGIN:VEVENT
DTSTART;VALUE=DATE:20250607
DTEND;VALUE=DATE:20250630
DTSTAMP:20260423T205915
CREATED:20250514T171805Z
LAST-MODIFIED:20250624T172020Z
UID:10001884-1749254400-1751241599@fondazionesorrento.com
SUMMARY:In Villa Fiorentino a Sorrento dal 7 al 29 Giugno 2025 "Elogio alla Follia" - Personale di Domenico Balestrieri
DESCRIPTION:Da Sabato 7 e fino a Domenica 29 Giugno 2025\, le sale di Villa Fiorentino ospiteranno la mostra d’arte “Elogio alla Follia“\, una personale di Domenico Balestrieri. \nDomenico “Mimmo” Balestrieri\, artista contemporaneo già noto per altre esposizioni qui a Sorrento\, svolge la sua attività a Gragnano (NA). La sua arte è un concentrato di colori dalle tinte forti e dalla pittura fortemente materica. \n  \nINGRESSO GRATUITO \nOrari:\nLun-Ven: dalle 10:00 alle 13:00 e dalle 16:00 alle 19:00 \nSabato e Domenica: dalle 10:00 alle 13:00 e dalle 16:00 alle 20:00
URL:https://fondazionesorrento.com/event/villa-fiorentino-sorrento-mostra-domenico-balestrieri-giugno-2025/
CATEGORIES:Mostre
ATTACH;FMTTYPE=image/jpeg:https://fondazionesorrento.com/wp-content/uploads/2025/05/villa-fiorentino-mostra-personale-domenico-balestrieri-sorrento-7-29-giugno-2025-FOndazione-Sorrento.jpg
END:VEVENT
BEGIN:VEVENT
DTSTART;TZID=UTC:20250620T103000
DTEND;TZID=UTC:20250620T190000
DTSTAMP:20260423T205915
CREATED:20250617T143012Z
LAST-MODIFIED:20250619T084512Z
UID:10002244-1750415400-1750446000@fondazionesorrento.com
SUMMARY:Taccuino: Attraversare i luoghi tra poesia e fotografi
DESCRIPTION:Il laboratorio Taccuino: attraversare i luoghi tra Poesia e Fotografia è un percorso creativo ideato dall’Università Vanvitelli in collaborazione con la città di Sorrento. Rivolto agli studenti\, questo progetto unisce due linguaggi – parola e immagine – per raccontare il territorio durante una giornata immersiva\, organizzata con il sostegno del Ministero della Cultura e il patrocinio del Premio Penisola Sorrentina \nTaccuino: Sorrento ospita gli studenti della Vanvitelli\n“Taccuino” rientra nel progetto nazionale Promenade Méditerranéenne\, promosso nell’ambito del Piano Strategia Fotografia del Ministero della Cultura e ideato per il trentennale del Premio Penisola Sorrentina.  \nQuesta residenza artistica bilingue si propone di comunicare il territorio attraverso l’incontro tra poesia e fotografia\, rendendo gli studenti protagonisti attivi nel processo creativo. \nGianluca Caporaso e Iole Capasso mostrano il territorio\nGianluca Caporaso\, poeta premiato con l’Elsa Morante ragazzi nel 2024\, e Iole Capasso\, fotografa professionista\, accompagnano gli studenti in un percorso di sperimentazione artistica. \nIl progetto punta a coniugare il vissuto emotivo e la visione poetica del paesaggio\, ispirandosi alla tradizione letteraria legata al mare e alla figura di Torquato Tasso \nIncontro e presentazione di Taccuino al Museo Correale\nLa giornata inizia alle ore 10:30 con un incontro aperto presso il Museo Correale\, dove i partecipanti si presenteranno e verrà illustrato il progetto “Taccuino”. Saranno presenti i docenti dell’Università Vanvitelli\, Aldo Amirante e Gianni Russo\, che introdurranno il laboratorio. \nSegue un primo reading poetico tenuto dal poeta vincitore del Premio Elsa Morante ragazzi 2024\, Gianluca Caporaso\, accompagnato dalla fotografa Iole Capasso. \n“L’anima dei Luoghi: attraversare\, poetare\, sentire”\nLa seconda fase\, a partire dalle 10:45 fino alle 11:30\, propone una riflessione interattiva sull’anima dei luoghi sorrentini. Caporaso e Capasso guidano gli studenti lungo un percorso di osservazione e ascolto\, stimolando la scrittura istantanea di versi e la cattura fotografica di sensazioni. \nL’obiettivo è far emergere la poesia già presente negli spazi reali\, in linea con le riflessioni di Elsa Morante e Pasolini. \nInterventi narranti al Vallone dei Mulini\nDopo una breve pausa\, alle ore 13:15\, trasferendosi nel suggestivo Vallone dei Mulini\, gli studenti sperimentano la scrittura e la fotografia “in situ”.  \nQui\, tra vegetazione rigogliosa e antiche costruzioni\, si alternano componimenti poetici e scatti spontanei. Questo dialogo diretto con il paesaggio sensibilizza i giovani creativi alla narrazione visuale e testuale del territorio. \nAvventure Urbane nella città di Sorrento\nNel pomeriggio\, a partire dalle 15:30\, il gruppo si sposta per le strade di Sorrento\, in cerca di dettagli urbani e scorci inattesi. L’attività “Avventure Urbane” stimola l’uso rispettoso e attento degli spazi urbani come fonte ispiratrice di poesia e fotografia contemporanea. \nConclusione di “Taccuino” in Villa Fiorentino\nLa giornata termina alle 17:30 con un momento conviviale a Villa Fiorentino\, dove gli studenti condividono le prime creazioni. I materiali – testi e immagini – saranno selezionati e dati alle stampe in un “decalogo poetico e fotografico”\, a testimonianza del dialogo tra arte e paesaggio sorrentino
URL:https://fondazionesorrento.com/event/taccuino-attraversare-i-luoghi-tra-poesia-e-fotografi/
LOCATION:Villa Fiorentino\, Corso Italia\, 51\, Sorrento\, 80067\, Italy
CATEGORIES:Eventi,Incontri
ATTACH;FMTTYPE=image/jpeg:https://fondazionesorrento.com/wp-content/uploads/2025/06/taccuino.jpg
END:VEVENT
BEGIN:VEVENT
DTSTART;TZID=UTC:20250620T193000
DTEND;TZID=UTC:20250620T210000
DTSTAMP:20260423T205915
CREATED:20250618T161417Z
LAST-MODIFIED:20250619T084352Z
UID:10002245-1750447800-1750453200@fondazionesorrento.com
SUMMARY:Villa Fiorentino: Il ricordo delle stragi di Sabra e Shatila
DESCRIPTION:A Villa Fiorentino il professore Marco Russo parlerà dei massacri nei campi di Sabra e Shatila. \nBeirut\, Libano\, 16-18 settembre 1982. Miliziani falangisti e forze collaborazioniste libanesi al soldo dell’esercito israeliano massacrano migliaia di palestinesi rinchiusi nei campi profughi di Sabra e Shatila. \nUno dei più grandi eccidi di civili compiuti dopo la Seconda guerra mondiale. Un “atto di genocidio”\, secondo le Nazioni Unite\, rimasto senza colpevoli\, senza giustizia\, espulso dal patrimonio della memoria collettiva. \nEvento a Villa Fiorentino sulle stragi di Sabra e Shatila\n“Sabra e Shatila. Per non dimenticare“. È questo il titolo dell’evento organizzato per venerdì 20 giugno a partire dalle ore 19:30 negli spazi di Villa Fiorentino\, a Sorrento. Il professor Marco Russo parlerà dei massacri compiuti nel 1982 nei due campi profughi accompagnando i presenti a comprendere le radici di quanto accade oggi in Palestina. Un appuntamento in Villa Fiorentino a cura dalla Fondazione Sorrento.
URL:https://fondazionesorrento.com/event/villa-fiorentino-sabra-e-shatila/
LOCATION:Villa Fiorentino\, Corso Italia\, 51\, Sorrento\, 80067\, Italy
CATEGORIES:Eventi,Incontri
ATTACH;FMTTYPE=image/jpeg:https://fondazionesorrento.com/wp-content/uploads/2025/06/WhatsApp-Image-2025-06-18-at-13.18.33.jpeg
END:VEVENT
END:VCALENDAR