BEGIN:VCALENDAR
VERSION:2.0
PRODID:-// - ECPv6.15.17//NONSGML v1.0//EN
CALSCALE:GREGORIAN
METHOD:PUBLISH
X-ORIGINAL-URL:https://fondazionesorrento.com
X-WR-CALDESC:Eventi per 
REFRESH-INTERVAL;VALUE=DURATION:PT1H
X-Robots-Tag:noindex
X-PUBLISHED-TTL:PT1H
BEGIN:VTIMEZONE
TZID:UTC
BEGIN:STANDARD
TZOFFSETFROM:+0000
TZOFFSETTO:+0000
TZNAME:UTC
DTSTART:20210101T000000
END:STANDARD
END:VTIMEZONE
BEGIN:VEVENT
DTSTART;TZID=UTC:20220101T080000
DTEND;TZID=UTC:20281231T170000
DTSTAMP:20260423T205847
CREATED:20250701T153534Z
LAST-MODIFIED:20250710T115227Z
UID:10000002-1641024000-1861894800@fondazionesorrento.com
SUMMARY:La Collezione di Carillon di Enrico Salierno
DESCRIPTION:Il secondo piano di Villa Fiorentino ospita la mostra permanente di carillon donati alla città di Sorrento dall’ebanista Enrico Salierno. \n\n\n\nQuesti\, originario del centro storico di Sorrento\, trovò fortuna in America con l’arte dell’intarsio sorrentino. \n\n\n\nFra gli anni Sessanta e Settanta del Novecento aprì a Los Angeles un workshop nel quale si dedicava all’import ed export dei manufatti tipici di Sorrento (cofanetti\, quadri\, tavoli da gioco etc.) sui quali venivano applicati vari lavori intarsiati\, espressione artistica e manuale della tradizione artigianale locale. Nel processo di lavorazione\, inoltre\, era previsto il montaggio dei carillon. \n\n\n\nDi anno in anno l’ebanista\, in compagnia di sua moglie\, tornava qui a Sorrento per ricongiungersi ai suoi familiari ed amici ma soprattutto per predisporre gli ordini da far arrivare al suo laboratorio negli USA. \n\n\n\nGiunto al termine del suo ciclo professionale\, Enrico Salierno\, come segno di gratitudine alla terra natia e i suoi artigiani\, decise di donare alla città di Sorrento una parte del suo patrimonio che meglio rappresentava il “suo” mondo di origine: una collezione rarissima e pregiata di carillon\, raccolta nei suoi anni di attività\, montati su mobilia pregiata di provenienza sia sorrentina che internazionale. \n\n\n\nSuccessivamente alla morte di Enrico\, grazie alla preziosa collaborazione di sua moglie e dell’amico fraterno Mario Cimmino\, nonchè della Fondazione Sorrento e dell’Unione Artigiani Intarsio Sorrentino\, fu possibile concludere tutte le complesse procedure burocratiche e di trasporto dei manufatti da Los Angeles a Sorrento. \n\n\n\nNecessitava solo una collocazione stabile dove poter custodire esporre tutte queste opere: quale posto migliore se non Villa Fiorentino? \n\n\n\nLa Fondazione Sorrento\, dunque\, è orgogliosa di dedicare questo intero spazio alla Collezione Salierno al secondo piano della villa. \n\n\n\nLa sala è intitolata “Enrico Salierno\, artigiano di Sorrento”. \n\n\n\n\n\nParte della collezione Salierno\nAlcuni dei carillon donati da Enrico Salierno\nParticolare del cilindro un carillon\nParticolare di un carillon montato su di un mobiletto\nLa Tradizione artigianale sorrentina incontra l’arte dei carillon\n\n\n\n\n\nL’accesso alla mostra è compresa nel costo del biglietto di Villa Fiorentino.
URL:https://fondazionesorrento.com/event/la-collezione-di-carillon-di-enrico-salierno/
CATEGORIES:Mostre,Mostre Permanenti
ATTACH;FMTTYPE=image/webp:https://fondazionesorrento.com/wp-content/uploads/2025/02/Collezione-Carillon-Salierno.webp
END:VEVENT
BEGIN:VEVENT
DTSTART;TZID=UTC:20220101T080000
DTEND;TZID=UTC:20281231T170000
DTSTAMP:20260423T205847
CREATED:20250702T160510Z
LAST-MODIFIED:20250710T115219Z
UID:10002241-1641024000-1861894800@fondazionesorrento.com
SUMMARY:La Mostra Permanente dell'Intarsio Sorrentino
DESCRIPTION:All’interno delle eleganti sale di Villa Fiorentino\, dimora storica nel cuore di Sorrento e sede della Fondazione Sorrento\, è possibile visitare una mostra permanente interamente dedicata all’intarsio sorrentino\, una delle più raffinate eccellenze dell’artigianato italiano. \nLa mostra nasce con l’intento di valorizzare e tramandare una tradizione artistica plurisecolare\, che ha reso celebre Sorrento nel mondo per la maestria dei suoi artigiani del legno. \nL’iniziativa è promossa dalla Fondazione Sorrento\, fortemente sostenuta dal presidente Gianluigi Aponte e dall’amministratore delegato Mario Gargiulo\, in collaborazione con l’Associazione Artigiani Intarsio Sorrentino\, che ha curato l’allestimento. \nAttraverso un percorso espositivo suggestivo\, i visitatori possono scoprire le fasi di lavorazione dell’intarsio\, tecnica che prevede l’utilizzo di sottili sfoglie di legno di diverse essenze e tonalità\, combinate con materiali preziosi come madreperla\, avorio e metalli. \nIl risultato è un vero e proprio mosaico ligneo\, realizzato con estrema precisione\, capace di raccontare storie\, paesaggi e motivi decorativi di grande fascino. \nSorrento ha conosciuto il massimo splendore dell’intarsio tra Ottocento e primo Novecento\, quando\, con l’avvento del Grand Tour\, artisti\, letterati e intellettuali di tutta Europa visitarono la Penisola sorrentina\, contribuendo allo sviluppo stilistico e tecnico di questa arte. \nL’istituzione della Scuola per l’Industria dell’Intarsio nel 1886 fu determinante per l’affermazione della produzione locale a livello internazionale. \nLa mostra permanente dell’Intarsio Sorrentino è arricchita da una selezione di pezzi unici: mobili\, cofanetti\, pannelli e oggetti decorativi che testimoniano la qualità e la bellezza di una tradizione che ancora oggi\, nonostante il ridotto numero di artigiani\, continua a vivere grazie all’impegno di maestri intarsiatori che puntano sull’eccellenza. \n\n\nQuando visitare la Mostra Permanente dell’Intarsio Sorrentino:\n\nLun-Ven: 10:00 – 13:00 / 16:00 – 19:00 \nSabato e Domenica: 10:00 – 13:00 / 16:00 – 20:00 \nIngresso gratuito \nPer info: +39 081 878 2284 – info@fondazionesorrento.com
URL:https://fondazionesorrento.com/event/mostra-permanente-intarsio-sorrentino-villa-fiorentino/
CATEGORIES:Mostre,Mostre Permanenti
ATTACH;FMTTYPE=image/png:https://fondazionesorrento.com/wp-content/uploads/2025/06/Mostra-permanente-Intarsio-Sorrentino-Villa-Fiorentino.png
END:VEVENT
BEGIN:VEVENT
DTSTART;TZID=UTC:20250605T183000
DTEND;TZID=UTC:20250605T203000
DTSTAMP:20260423T205847
CREATED:20250522T095419Z
LAST-MODIFIED:20250531T145727Z
UID:10002238-1749148200-1749155400@fondazionesorrento.com
SUMMARY:In Villa Fiorentino a Sorrento Presentazione del Libro "Terra e Fuoco - La Voce del Vesuvio tra Natura e Cultura" | 5 Giugno 2025
DESCRIPTION:Fondazione Sorrento è lieta di ospitare\, in Villa Fiorentino a Sorrento\, Giovedì 5 Giugno 2025 alle 18:30\, la presentazione del libro “Terra e Fuoco – la voce del Vesuvio tra natura e cultura“\, romanzo di Olga Laudonia e Giovanni Gugg. \nIl Libro rappresenta uno studio multidisciplinare sul Vesuvio\, secondo diverse prospettive: arte\, storia\, geologia e perfino musica. Un approfondimento su questo vulcano che – oltre alla sua funzione culturale e identitaria di un popolo e il suo territorio – è fonte di ispirazione in campo artistico\, letterario e scientifico. \nIl volume\, edito da Cmea – ente nato nel 1979 senza fini di lucro e finanziato dal Comune di Sorrento – fa parte della collana “Sud Comunicazione Ambiente”\, diretta di Giovanni Fiorentino; \nSaluti:\n– Mario Gargiulo\, Amministratore Delegato di Fondazione Sorrento; \n– Luca Vittorio Raiola\, Presidente del Cmea; \n– Luigi Cuomo\, Direttore di Penisolaverde; \nInterverranno:\n– Antonio Maione\, Alfonso Bruno\, Luigi Bianco; \nModeratore:\n– Antonino Siniscalchi; \nConclusioni:\n– Olga Laudonia e Giovanni Gugg\, autori; \n  \n“L’armonia di un paesaggio risiede spesso in un equilibrio delicato\, in una coerenza tra le sue forme e la sua storia.  \nIl Vesuvio\, con la sua imponenza e la sua imprevedibilità\, rompe questo equilibrio\, introducendo un elemento di caos e di mistero. La sua natura violenta e incontrollabile ha da sempre affascinato e terrorizzato gli esseri umani\, alimentando miti e leggende che si sono tramandati nei secoli.  \nIn effetti\, il Vesuvio è più di un’espressione della natura\, perché è anche un “oggetto culturale”.  \nCome direbbe Claude Lévi-Strauss\, è “buono da pensare”\, nel senso che gli umani non classificano gli elementi naturali – come animali\, piante o fenomeni ambientali – solo in base alla loro utilità pratica (ad esempio\, “buono da mangiare”)\, ma anche in funzione del loro valore simbolico e cognitivo. \nDa millenni il Vesuvio è un elemento del mondo naturale che\, attraverso il pensiero mitico\, simbolico e artistico\, per-mette di costruire significati culturali con cui le persone riflettono su concetti astratti\, organizzano la conoscenza e danno senso al mondo.  \nIl Vesuvio ci dice che la natura non è solo un insieme di risorse materiali\, ma anche una fonte di idee e simboli attraverso cui gli esseri umani pensano e costruiscono le loro visioni del mondo.  \nDalle descrizioni dettagliate di Plinio il Giovane\, che fu testimone oculare della catastrofe di Pompei ed Ercolano nel 79 d.C.\, alle gouache romantiche che ritraggono lo “spettacolo” dell’eruzione\, il Vesuvio ha ispirato innumerevoli artisti e scrittori che hanno cercato di rappresentare la sua bellezza e la sua potenza distruttiva.” \n(Dall’introduzione di Olga Laudonia e Giovanni Gugg) \n  \nLa presentazione di questo volume s’inserisce nel contesto della Giornata Mondiale dell’Ambiente\, che si celebra – dal 1972 – il 5 Giugno di ogni anno. \nE’ una ricorrenza globale per favorire la sensibilizzazione delle persone al tema della tutela dell’ambiente attraverso forum\, attività e iniziative di vario genere. \n \n  \n  \n  \n 
URL:https://fondazionesorrento.com/event/presentazione-libro-terra-e-fuoco-villa-fiorentino-sorrento-5-giugno-2025/
LOCATION:Stazione Marittima di Napoli
CATEGORIES:Presentazione Libri
ATTACH;FMTTYPE=image/jpeg:https://fondazionesorrento.com/wp-content/uploads/2025/05/villa-fiorentino-sorrento-5-giugno-2025-presentazione-del-libro-terra-e-fuco-olga-laudonia-giovanni-gugg-giornata-mondiale-dellambiente-2025.jpg
END:VEVENT
END:VCALENDAR