BEGIN:VCALENDAR
VERSION:2.0
PRODID:-// - ECPv6.15.17//NONSGML v1.0//EN
CALSCALE:GREGORIAN
METHOD:PUBLISH
X-ORIGINAL-URL:https://fondazionesorrento.com
X-WR-CALDESC:Events for 
REFRESH-INTERVAL;VALUE=DURATION:PT1H
X-Robots-Tag:noindex
X-PUBLISHED-TTL:PT1H
BEGIN:VTIMEZONE
TZID:UTC
BEGIN:STANDARD
TZOFFSETFROM:+0000
TZOFFSETTO:+0000
TZNAME:UTC
DTSTART:20210101T000000
END:STANDARD
END:VTIMEZONE
BEGIN:VEVENT
DTSTART;TZID=UTC:20220101T080000
DTEND;TZID=UTC:20281231T170000
DTSTAMP:20260423T153622
CREATED:20250701T145525Z
LAST-MODIFIED:20250710T114952Z
UID:10002253-1641024000-1861894800@fondazionesorrento.com
SUMMARY:The Carillon Collection of Enrico Salierno
DESCRIPTION:The second floor of Villa Fiorentino houses a permanent exhibition of music boxes donated to the city of Sorrento by cabinetmaker Enrico Salierno. \nThe latter\, a native of the historic center of Sorrento\, found his fortune in America with the art of Sorrentine marquetry. \nBetween the 1960s and 1970s he opened a workshop in Los Angeles in which he devoted himself to the import and export of typical Sorrento artifacts (caskets\, paintings\, game tables etc.) on which various inlaid works were applied\, the artistic and manual expression of the local craft tradition. Also included in the manufacturing process was the assembly of music boxes. \nFrom year to year the cabinetmaker\, in the company of his wife\, would return here to Sorrento to reunite with his family and friends\, but above all to prepare orders to be sent to his workshop in the US. \nHaving come to the end of his professional cycle\, Enrico Salierno\, as a sign of gratitude to his native land and its craftsmen\, decided to donate to the city of Sorrento a part of his patrimony that best represented “his” world of origin: a very rare and valuable collection of music boxes\, collected during his years of activity\, mounted on fine furniture of both Sorrento and international origin. \nSubsequent to Enrico’s death\, thanks to the invaluable collaboration of his wife and fraternal friend Mario Cimmino\, as well as the Sorrento Foundation and the Sorrento Inlay Craftsmen’s Union\, it was possible to conclude all the complex bureaucratic and transportation procedures for the artifacts from Los Angeles to Sorrento. \nAll that was needed was a stable location where all these works could be kept on display: what better place than Villa Fiorentino? \nThe Sorrento Foundation\, therefore\, is proud to dedicate this entire space to the Salierno Collection on the second floor of the villa. \nThe room is entitled “Enrico Salierno\, artisan of Sorrento”. \n  \nPart of the Salierno collection\nDetail of the cylinder a music box\nDetail of a music box mounted on a cabinet\nSome of the music boxes donated by Enrico Salierno\nSorrentine Craft Tradition meets the art of music boxes\n  \nAccess to the exhibition is included in the cost of the Villa Fiorentino ticket.
URL:https://fondazionesorrento.com/event/the-carillon-collection-of-enrico-salierno/
CATEGORIES:Exhibitions,Permanent Exhibitions
ATTACH;FMTTYPE=image/webp:https://fondazionesorrento.com/wp-content/uploads/2025/02/Collezione-Carillon-Salierno.webp
END:VEVENT
BEGIN:VEVENT
DTSTART;TZID=UTC:20220101T080000
DTEND;TZID=UTC:20281231T170000
DTSTAMP:20260423T153622
CREATED:20250702T170644Z
LAST-MODIFIED:20250710T115012Z
UID:10002242-1641024000-1861894800@fondazionesorrento.com
SUMMARY:The Art of Sorrento Inlay: Permanent Exhibition at Villa Fiorentino
DESCRIPTION:Inside Villa Fiorentino\, the historic residence in the heart of Sorrento and home to the Fondazione Sorrento\, visitors can enjoy a permanent exhibition dedicated to Sorrento wood inlay\, one of the finest examples of Italian craftsmanship. \nThis permanent exhibition was created to promote and preserve this centuries-old artistic tradition\, which made Sorrento famous worldwide for the skills of its woodworkers. \nThe project was strongly supported by President Gianluigi Aponte and Managing Director Mario Gargiulo\, and realized in collaboration with the Sorrento Inlay Craftsmen Association\, responsible for the setup. \n“The Art of Sorrento Inlay” permanent exhibition guides visitors through the intricate process of inlay work\, which involves combining thin veneers of wood in various colors with precious materials like mother-of-pearl\, ivory\, and metals. \nThen\, the result is a refined mosaic of wood\, forming intricate images and elegant decorative patterns. \nSorrento’s inlay tradition flourished during the 19th and early 20th centuries\, especially during the Grand Tour era\, when artists and intellectuals from all over Europe visited the Sorrento Peninsula. \nThe foundation of the School for the Inlay and Carving Industry in 1886 played a key role in consolidating this art on an international level. \nThe exhibition includes unique pieces such as furniture\, boxes\, panels\, and decorative objects that testify to the beauty and precision of Sorrento’s inlay. \nToday\, although fewer artisans remain\, they are focused on producing high-quality items that keep this remarkable tradition alive. \nUseful Info\nLocation: Villa Fiorentino – Corso Italia\, 53 – Sorrento (NA)Opening hours: \nMonday – Friday from 10:00 AM to 1:00 PM and 4:00 PM to 7:00 PM; \nSaturday and Sunday from 10:00 AM to 1:00 PM and 4:00 PM to 7:00 PM \nFree admission \n Info: +39 081 878 2284 – info@fondazionesorrento.com
URL:https://fondazionesorrento.com/event/art-sorrento-inlay-permanent-exhibition-villa-fiorentino/
CATEGORIES:Exhibitions,Permanent Exhibitions
ATTACH;FMTTYPE=image/png:https://fondazionesorrento.com/wp-content/uploads/2025/06/the-art-of-sorrento-inlay-Permanent-Exhibition-Villa-Fiorentino-Sorrento-Fondazione-Sorrento.png
END:VEVENT
BEGIN:VEVENT
DTSTART;TZID=UTC:20250713T100000
DTEND;TZID=UTC:20251012T220000
DTSTAMP:20260423T153622
CREATED:20250703T103226Z
LAST-MODIFIED:20250722T075113Z
UID:10002252-1752400800-1760306400@fondazionesorrento.com
SUMMARY:Joan Mirò's exhibition "L'Incanto dei Segni" in Sorrento
DESCRIPTION:Discover the Joan Mirò’s Exhibition in Sorrento from 13 July to 12 October in Villa Fiorentino. Sorrento will be the setting for the exhibition “The Enchantment of Signs“\, a journey into the fascinating and colorful world of Joan Mirò. \nJoan Mirò: “L’incanto dei Segni”\nThe Mirò’s Exhibition in Sorrento offers a selection of works on paper that tell the story of Mirò’s artistic evolution\, including engravings\, lithographs and experiments. On display\, works such as Les pénalités de l’enfer ou Les nouvelles-hébrides\, Lapidari\, Ubu Roi and Peintures sur cartons. \nThere is no shortage of works with a more poetic and playful tone\, including Le Lézard aux plumes d’or\, Le Marteau sans maître and Quelques Fleurs pour des amis\, which reveal the most intimate side of the artist. \nA unique exhibition in Sorrento\nThis exhibition represents a special opportunity to admire up close the graphic art of one of the great masters of the twentieth century. An event not to be missed\, promoted by the Sorrento Foundation to enhance culture in the city.
URL:https://fondazionesorrento.com/event/joan-miro-exhibition-sorrento/
LOCATION:Villa Fiorentino\, Corso Italia\, 51\, Sorrento\, 80067\, Italy
CATEGORIES:Events,Exhibitions
ATTACH;FMTTYPE=image/jpeg:https://fondazionesorrento.com/wp-content/uploads/2025/07/miro-sorrento.jpeg
END:VEVENT
BEGIN:VEVENT
DTSTART;TZID=UTC:20251001T210100
DTEND;TZID=UTC:20251001T223000
DTSTAMP:20260423T153622
CREATED:20250422T144903Z
LAST-MODIFIED:20250711T083719Z
UID:10002182-1759352460-1759357800@fondazionesorrento.com
SUMMARY:O’ Sole Mio - Opera & Neapolitan Music Concert in Villa Fiorentino \, Sorrento
DESCRIPTION:‘O Sole Mio – Opera and Neapolitan Music Concert in Sorrento\n\nThe elegance of Opera meets the timeless charm of Neapolitan music in a truly unique and dreamlike concert experience. \nWelcome to “‘O Sole Mio“\, where the most beloved opera arias and iconic Neapolitan songs blend in perfect harmony\, enhanced by the refined ambiance of Villa Fiorentino in the heart of Sorrento. \nCurated by ‘Opera in Roma’\, this exclusive concert features a Soprano and Tenor\, accompanied solely by mandolin and piano\, creating an intimate and captivating sound. \nThe evening’s program celebrates the finest in Neapolitan and operatic tradition\, with masterpieces ranging from La Traviata\, Tosca\, and Rigoletto to timeless classics like Funiculì Funiculà\, Torna a Surriento\, and of course\, ‘O Sole Mio. \nPerforming Artists:\nSoprano: Elena Memoli\nTenor: Marco Ferrante\nMandolin: Carmela Persico\nPiano: Antonino De Rosa \nArt Director: Ivan Iannone \nLet yourself be enchanted by the magical atmosphere of Villa Fiorentino\, one of Sorrento’s most charming venues\, as the spirit of Neapolitan Song and Italian Opera comes to life under the stars. \nEvent Info & Ticket Details\nEvery Wednesday and Sunday at 9:00 PM\nFrom April 23 to October 12\, 2025 \nVilla Fiorentino\, Corso Italia 53 – 80067 – Sorrento (NA) \nFull Ticket: €45.00\nReduced Ticket: €40.00 (Available for groups of 8 or more\, and for minors aged 8–17\, students under 26\, military) \nBook your seat now and experience the magic of Neapolitan music and Italian opera in the heart of Sorrento!
URL:https://fondazionesorrento.com/event/o-sole-mio-opera-concert-villa-fiorentino-sorrento/2025-10-01/
LOCATION:Fondazione Sorrento\, Sorrento\, Italy
CATEGORIES:Concerts
ATTACH;FMTTYPE=image/jpeg:https://fondazionesorrento.com/wp-content/uploads/2025/04/Osole-Mio-Sorrento-opera-in-roma-Villa-Fiorentino-2025-Fondazione-Sorrento.jpeg
END:VEVENT
BEGIN:VEVENT
DTSTART;TZID=UTC:20251004T080000
DTEND;TZID=UTC:20251109T170000
DTSTAMP:20260423T153622
CREATED:20251013T132422Z
LAST-MODIFIED:20251013T132422Z
UID:10002265-1759564800-1762707600@fondazionesorrento.com
SUMMARY:At Villa Fiorentino the photo exhibition by Raffaele Federico “Auschwitz – Birkenau – not to forget”
DESCRIPTION:From 4 October to 9 November 2025\, the Sorrento Foundation hosts the photographic exhibition “Auschwitz – Birkenau – lest we forget” by Raffaele Federico in the spaces of Villa Fiorentino. \nThe exhibition itinerary is an intense journey to places of memory: the Nazi extermination camps\, documented through black and white images that convey the full sense of the horror of the Shoah. \nThe Auschwitz Birkenau exhibition at Villa Fiorentino\nBroken tracks\, barbed wire\, empty shacks\, mountains of shoes and objects belonging to the victims: each photograph becomes a testimony that reminds us of the importance of not forgetting. \nThe inauguration will be held on Saturday 4 October at 6.00 pm\, with the presentation of the prof. Giovanni Fiorentino and the historical notes of prof. Domenico Torre. The exhibition can be visited free of charge every day from 10.00 to 13.00 and from 16.00 to 19.00. \nRaffaele Federico: the photographer of the exhibition\nBorn in Sant’Agnello in 1962\, Raffaele Federico is a surgeon who has cultivated a passion for photography for over forty years. Since the 1980s he has participated in group shows and competitions\, establishing himself for his rigorous style and use of black and white. \nOver the years he has documented religious events\, popular festivals and traditions of the Sorrento peninsula\, until arriving at works of international scope. The Auschwitz and Birkenau exhibition represents the culmination of his photographic research: a dry and empathetic gaze that invites us to reflect on the universal value of memory. \nVisiting this exhibition means not only admiring high-impact photographs\, but also participating in a journey of awareness.\nVilla Fiorentino awaits you every day until November 9th: an opportunity not to be missed to keep the memory alive and pass it on to the new generations.
URL:https://fondazionesorrento.com/event/photo-exhibition-auschwitz-birkenau/
CATEGORIES:Events,Exhibitions
ATTACH;FMTTYPE=image/jpeg:https://fondazionesorrento.com/wp-content/uploads/2025/09/mostra-Auschwitz-Birkenau-Sorrento-scaled.jpg
END:VEVENT
BEGIN:VEVENT
DTSTART;TZID=UTC:20251005T210100
DTEND;TZID=UTC:20251005T223000
DTSTAMP:20260423T153622
CREATED:20250422T144903Z
LAST-MODIFIED:20250711T083719Z
UID:10002183-1759698060-1759703400@fondazionesorrento.com
SUMMARY:O’ Sole Mio - Opera & Neapolitan Music Concert in Villa Fiorentino \, Sorrento
DESCRIPTION:‘O Sole Mio – Opera and Neapolitan Music Concert in Sorrento\n\nThe elegance of Opera meets the timeless charm of Neapolitan music in a truly unique and dreamlike concert experience. \nWelcome to “‘O Sole Mio“\, where the most beloved opera arias and iconic Neapolitan songs blend in perfect harmony\, enhanced by the refined ambiance of Villa Fiorentino in the heart of Sorrento. \nCurated by ‘Opera in Roma’\, this exclusive concert features a Soprano and Tenor\, accompanied solely by mandolin and piano\, creating an intimate and captivating sound. \nThe evening’s program celebrates the finest in Neapolitan and operatic tradition\, with masterpieces ranging from La Traviata\, Tosca\, and Rigoletto to timeless classics like Funiculì Funiculà\, Torna a Surriento\, and of course\, ‘O Sole Mio. \nPerforming Artists:\nSoprano: Elena Memoli\nTenor: Marco Ferrante\nMandolin: Carmela Persico\nPiano: Antonino De Rosa \nArt Director: Ivan Iannone \nLet yourself be enchanted by the magical atmosphere of Villa Fiorentino\, one of Sorrento’s most charming venues\, as the spirit of Neapolitan Song and Italian Opera comes to life under the stars. \nEvent Info & Ticket Details\nEvery Wednesday and Sunday at 9:00 PM\nFrom April 23 to October 12\, 2025 \nVilla Fiorentino\, Corso Italia 53 – 80067 – Sorrento (NA) \nFull Ticket: €45.00\nReduced Ticket: €40.00 (Available for groups of 8 or more\, and for minors aged 8–17\, students under 26\, military) \nBook your seat now and experience the magic of Neapolitan music and Italian opera in the heart of Sorrento!
URL:https://fondazionesorrento.com/event/o-sole-mio-opera-concert-villa-fiorentino-sorrento/2025-10-05/
LOCATION:Fondazione Sorrento\, Sorrento\, Italy
CATEGORIES:Concerts
ATTACH;FMTTYPE=image/jpeg:https://fondazionesorrento.com/wp-content/uploads/2025/04/Osole-Mio-Sorrento-opera-in-roma-Villa-Fiorentino-2025-Fondazione-Sorrento.jpeg
END:VEVENT
BEGIN:VEVENT
DTSTART;TZID=UTC:20251008T210100
DTEND;TZID=UTC:20251008T223000
DTSTAMP:20260423T153622
CREATED:20250422T144903Z
LAST-MODIFIED:20250711T083719Z
UID:10002184-1759957260-1759962600@fondazionesorrento.com
SUMMARY:O’ Sole Mio - Opera & Neapolitan Music Concert in Villa Fiorentino \, Sorrento
DESCRIPTION:‘O Sole Mio – Opera and Neapolitan Music Concert in Sorrento\n\nThe elegance of Opera meets the timeless charm of Neapolitan music in a truly unique and dreamlike concert experience. \nWelcome to “‘O Sole Mio“\, where the most beloved opera arias and iconic Neapolitan songs blend in perfect harmony\, enhanced by the refined ambiance of Villa Fiorentino in the heart of Sorrento. \nCurated by ‘Opera in Roma’\, this exclusive concert features a Soprano and Tenor\, accompanied solely by mandolin and piano\, creating an intimate and captivating sound. \nThe evening’s program celebrates the finest in Neapolitan and operatic tradition\, with masterpieces ranging from La Traviata\, Tosca\, and Rigoletto to timeless classics like Funiculì Funiculà\, Torna a Surriento\, and of course\, ‘O Sole Mio. \nPerforming Artists:\nSoprano: Elena Memoli\nTenor: Marco Ferrante\nMandolin: Carmela Persico\nPiano: Antonino De Rosa \nArt Director: Ivan Iannone \nLet yourself be enchanted by the magical atmosphere of Villa Fiorentino\, one of Sorrento’s most charming venues\, as the spirit of Neapolitan Song and Italian Opera comes to life under the stars. \nEvent Info & Ticket Details\nEvery Wednesday and Sunday at 9:00 PM\nFrom April 23 to October 12\, 2025 \nVilla Fiorentino\, Corso Italia 53 – 80067 – Sorrento (NA) \nFull Ticket: €45.00\nReduced Ticket: €40.00 (Available for groups of 8 or more\, and for minors aged 8–17\, students under 26\, military) \nBook your seat now and experience the magic of Neapolitan music and Italian opera in the heart of Sorrento!
URL:https://fondazionesorrento.com/event/o-sole-mio-opera-concert-villa-fiorentino-sorrento/2025-10-08/
LOCATION:Fondazione Sorrento\, Sorrento\, Italy
CATEGORIES:Concerts
ATTACH;FMTTYPE=image/jpeg:https://fondazionesorrento.com/wp-content/uploads/2025/04/Osole-Mio-Sorrento-opera-in-roma-Villa-Fiorentino-2025-Fondazione-Sorrento.jpeg
END:VEVENT
BEGIN:VEVENT
DTSTART;TZID=UTC:20251012T210100
DTEND;TZID=UTC:20251012T223000
DTSTAMP:20260423T153622
CREATED:20250422T144903Z
LAST-MODIFIED:20250711T083719Z
UID:10002185-1760302860-1760308200@fondazionesorrento.com
SUMMARY:O’ Sole Mio - Opera & Neapolitan Music Concert in Villa Fiorentino \, Sorrento
DESCRIPTION:‘O Sole Mio – Opera and Neapolitan Music Concert in Sorrento\n\nThe elegance of Opera meets the timeless charm of Neapolitan music in a truly unique and dreamlike concert experience. \nWelcome to “‘O Sole Mio“\, where the most beloved opera arias and iconic Neapolitan songs blend in perfect harmony\, enhanced by the refined ambiance of Villa Fiorentino in the heart of Sorrento. \nCurated by ‘Opera in Roma’\, this exclusive concert features a Soprano and Tenor\, accompanied solely by mandolin and piano\, creating an intimate and captivating sound. \nThe evening’s program celebrates the finest in Neapolitan and operatic tradition\, with masterpieces ranging from La Traviata\, Tosca\, and Rigoletto to timeless classics like Funiculì Funiculà\, Torna a Surriento\, and of course\, ‘O Sole Mio. \nPerforming Artists:\nSoprano: Elena Memoli\nTenor: Marco Ferrante\nMandolin: Carmela Persico\nPiano: Antonino De Rosa \nArt Director: Ivan Iannone \nLet yourself be enchanted by the magical atmosphere of Villa Fiorentino\, one of Sorrento’s most charming venues\, as the spirit of Neapolitan Song and Italian Opera comes to life under the stars. \nEvent Info & Ticket Details\nEvery Wednesday and Sunday at 9:00 PM\nFrom April 23 to October 12\, 2025 \nVilla Fiorentino\, Corso Italia 53 – 80067 – Sorrento (NA) \nFull Ticket: €45.00\nReduced Ticket: €40.00 (Available for groups of 8 or more\, and for minors aged 8–17\, students under 26\, military) \nBook your seat now and experience the magic of Neapolitan music and Italian opera in the heart of Sorrento!
URL:https://fondazionesorrento.com/event/o-sole-mio-opera-concert-villa-fiorentino-sorrento/2025-10-12/
LOCATION:Fondazione Sorrento\, Sorrento\, Italy
CATEGORIES:Concerts
ATTACH;FMTTYPE=image/jpeg:https://fondazionesorrento.com/wp-content/uploads/2025/04/Osole-Mio-Sorrento-opera-in-roma-Villa-Fiorentino-2025-Fondazione-Sorrento.jpeg
END:VEVENT
BEGIN:VEVENT
DTSTART;TZID=UTC:20251018T080000
DTEND;TZID=UTC:20251018T170000
DTSTAMP:20260423T153622
CREATED:20251014T090800Z
LAST-MODIFIED:20251014T091243Z
UID:10002267-1760774400-1760806800@fondazionesorrento.com
SUMMARY:Presentation of “Olio delle Sirene” Journal at Villa Fiorentino
DESCRIPTION:The Fondazione Sorrento will host on Saturday\, October 18\, 2025\, at 11:00 AM\, the official presentation of the EWS Journal “Olio delle Sirene – Sorrento 2025” at Villa Fiorentino\, marking the preview of the second edition of the Olio delle Sirene Award 2026. \nOfficial presentation of the EWS Journal and preview of the second edition of the Olio delle Sirene Award\nThe initiative\, promoted by European Workshop Sorrento (EWS)\, aims to enhance the excellence of olive oil production in Southern Italy\, connecting culture\, territory\, health\, and sustainability. \nA project to promote Mediterranean olive oil excellence\n  \nThe EWS Journal “Olio delle Sirene”\, curated by journalist Angelo Cirasa\, brings together experiences\, analyses\, and testimonies from leading figures in the olive oil industry\, Mediterranean economy\, and culture\, highlighting the social and symbolic value of olive oil. \nFollowing the introduction by Nino Apreda\, EWS Secretary\, institutional greetings will be delivered by: \n\n\nRosalba Scialla – Prefect\, Extraordinary Commissioner of the Municipality of Sorrento \n\n\nMonsignor Francesco Alfano – Archbishop of the Archdiocese of Sorrento-Castellammare di Stabia \n\n\nMichele Savarese – Vice President of Fondazione Sorrento \n\n\nOlio delle sirene:\nSpeakers and Program\n  \nSpeakers will include: \n\n\nAmalia Mascolo – Head of Istituto Polispecialistico San Paolo \n\n\nDomenico Cosimato – President of Oleum \n\n\nValentina Stinga – President of Coldiretti Napoli \n\n\nGiuseppe Cuomo – EWS Board Member \n\n\nTullio Esposito – President of the Scientific Committee of the Olio delle Sirene Award \n\n\nClosing remarks by Roberto Cogliandro\, EWS President. Moderator: Angelo Cirasa. \nA growing award\n  \nThe Olio delle Sirene Award\, launched in 2025\, already involves over 200 olive oils from across Italy and four foreign countries. After its presentation at the Italian Chamber of Deputies and the first edition in Sorrento\, the project confirms its role in promoting Italian olive oil excellence on the international market. \n\n“We are proud to partner again with EWS for this second edition\,” says Michele Savarese\, Vice President of Fondazione Sorrento. “Our goal is to support top-quality olive oil producers and promote Made in Italy around the world.”
URL:https://fondazionesorrento.com/event/presentation-of-olio-delle-sirene-journal-at-villa-fiorentino/
CATEGORIES:Book presentation,Events
ATTACH;FMTTYPE=image/jpeg:https://fondazionesorrento.com/wp-content/uploads/2025/10/Olio-a-Villa-Fiorentino-5.jpg
END:VEVENT
BEGIN:VEVENT
DTSTART;TZID=UTC:20251019T100000
DTEND;TZID=UTC:20251026T190000
DTSTAMP:20260423T153622
CREATED:20251015T133730Z
LAST-MODIFIED:20251015T134135Z
UID:10002269-1760868000-1761505200@fondazionesorrento.com
SUMMARY:Exhibition "Anima. To Those Who Are Searching” by Juliana Moura and Julsip at Villa Fiorentino
DESCRIPTION:From October 19 to 26\, 2025\, Villa Fiorentino in Sorrento will host the contemporary art exhibition “Anima. To Those Who Are Searching”\, a project created by Juliana Moura and Julsip. The exhibition will be open daily with free admission\, from 10:00 a.m. to 1:00 p.m. and 4:00 p.m. to 7:00 p.m. \nPath and style of the artists\nThis project was born from the artistic partnership between Moura and Julsip. It represents a journey of inner exploration\, following its debut in the historic Cloister of San Francesco in Sorrento last May. \nThe exhibition invites visitors to go beyond materialism and reconnect with their soul\, offering a reflective and emotional experience. \nAlthough Moura and Julsip have different artistic languages\, they share the same vision: through art\, they aim to guide the audience on an inner journey to rediscover their true selves and surpass rational boundaries. \nTheir works encourage visitors to look beyond the visible\, opening up a dialogue with their own inner world. \nUseful information on the “Anima” exhibition\n\nThe exhibition will be held at Villa Fiorentino\, in the heart of Sorrento\, from 19 to 26 October 2025. It will be possible to visit it every day\, with morning hours from 10:00 to 13:00 and afternoon hours from 16:00 to 19:00. Entry will be completely free\, offering everyone the opportunity to live an artistic and spiritual experience open to the community and visitors.
URL:https://fondazionesorrento.com/event/exhibition-anima-villa-fiorentino/
CATEGORIES:Events,Exhibitions
ATTACH;FMTTYPE=image/jpeg:https://fondazionesorrento.com/wp-content/uploads/2025/10/Anima-Mostra-a-Villa-Fiorentino.jpg
END:VEVENT
END:VCALENDAR